Workbook

Sheet Bobři
B1: Bobři | C1: STO 19:0 | F1: BCI 18:1 | I1: FAB 20:3 | L1: LOW 16:5 | U1: CELKEM
A2: Číslo | C2: G | D2: N | E2: K | F2: G | G2: N | H2: K | I2: G | J2: N | K2: K | L2: G | M2: N | N2: K | O2: G | P2: N | Q2: K | R2: G | S2: N | T2: K | U2: G | V2: N | W2: K
A3: 8 | B3: Samuel Mesany | C3: 8 | D3: 4 | E3: =C3+D3 -> 12 | F3: 5 | G3: 2 | H3: =F3+G3 -> 7 | I3: 9 | J3: 2 | K3: =I3+J3 -> 11 | L3: 7 | N3: =L3+M3 -> 7 | Q3: =O3+P3 -> 0 | T3: =R3+S3 -> 0 | U3: =C3+F3+I3+L3+O3+R3 -> 29 | V3: =D3+G3+J3+M3+P3+S3 -> 8 | W3: =E3+H3+K3+N3+Q3+T3 -> 37 | X3: BOB
A4: 12 | B4: Eliáš Mesany | C4: 7 | D4: 5 | E4: =C4+D4 -> 12 | F4: 3 | G4: 1 | H4: =F4+G4 -> 4 | I4: 6 | J4: 4 | K4: =I4+J4 -> 10 | L4: 6 | M4: 2 | N4: =L4+M4 -> 8 | Q4: =O4+P4 -> 0 | T4: =R4+S4 -> 0 | U4: =C4+F4+I4+L4+O4+R4 -> 22 | V4: =D4+G4+J4+M4+P4+S4 -> 12 | W4: =E4+H4+K4+N4+Q4+T4 -> 34 | X4: BOB
A5: 1 | B5: Matyáš Dolenský | E5: =C5+D5 -> 0 | F5: 4 | H5: =F5+G5 -> 4 | I5: 1 | J5: 2 | K5: =I5+J5 -> 3 | N5: =L5+M5 -> 0 | Q5: =O5+P5 -> 0 | T5: =R5+S5 -> 0 | U5: =C5+F5+I5+L5+O5+R5 -> 5 | V5: =D5+G5+J5+M5+P5+S5 -> 2 | W5: =E5+H5+K5+N5+Q5+T5 -> 7 | X5: BOB
A6: 4 | B6: Vojtěch Procházka | C6: 4 | D6: 3 | E6: =C6+D6 -> 7 | F6: 6 | G6: 6 | H6: =F6+G6 -> 12 | I6: 4 | J6: 1 | K6: =I6+J6 -> 5 | L6: 3 | N6: =L6+M6 -> 3 | Q6: =O6+P6 -> 0 | T6: =R6+S6 -> 0 | U6: =C6+F6+I6+L6+O6+R6 -> 17 | V6: =D6+G6+J6+M6+P6+S6 -> 10 | W6: =E6+H6+K6+N6+Q6+T6 -> 27 | X6: BOB
A7: 10 | B7: Jan Procházka | D7: 6 | E7: =C7+D7 -> 6 | G7: 6 | H7: =F7+G7 -> 6 | J7: 10 | K7: =I7+J7 -> 10 | M7: 12 | N7: =L7+M7 -> 12 | Q7: =O7+P7 -> 0 | T7: =R7+S7 -> 0 | U7: =C7+F7+I7+L7+O7+R7 -> 0 | V7: =D7+G7+J7+M7+P7+S7 -> 34 | W7: =E7+H7+K7+N7+Q7+T7 -> 34 | X7: BOB
A8: B | B8: Jan Učík | E8: =C8+D8 -> 0 | G8: 1 | H8: =F8+G8 -> 1 | K8: =I8+J8 -> 0 | N8: =L8+M8 -> 0 | Q8: =O8+P8 -> 0 | T8: =R8+S8 -> 0 | U8: =C8+F8+I8+L8+O8+R8 -> 0 | V8: =D8+G8+J8+M8+P8+S8 -> 1 | W8: =E8+H8+K8+N8+Q8+T8 -> 1 | X8: BOB
E9: =C9+D9 -> 0 | H9: =F9+G9 -> 0 | K9: =I9+J9 -> 0 | N9: =L9+M9 -> 0 | Q9: =O9+P9 -> 0 | T9: =R9+S9 -> 0 | U9: =C9+F9+I9+L9+O9+R9 -> 0 | V9: =D9+G9+J9+M9+P9+S9 -> 0 | W9: =E9+H9+K9+N9+Q9+T9 -> 0 | X9: BOB
E10: =C10+D10 -> 0 | H10: =F10+G10 -> 0 | K10: =I10+J10 -> 0 | N10: =L10+M10 -> 0 | Q10: =O10+P10 -> 0 | T10: =R10+S10 -> 0 | U10: =C10+F10+I10+L10+O10+R10 -> 0 | V10: =D10+G10+J10+M10+P10+S10 -> 0 | W10: =E10+H10+K10+N10+Q10+T10 -> 0 | X10: BOB
E11: =C11+D11 -> 0 | H11: =F11+G11 -> 0 | K11: =I11+J11 -> 0 | N11: =L11+M11 -> 0 | Q11: =O11+P11 -> 0 | T11: =R11+S11 -> 0 | U11: =C11+F11+I11+L11+O11+R11 -> 0 | V11: =D11+G11+J11+M11+P11+S11 -> 0 | W11: =E11+H11+K11+N11+Q11+T11 -> 0 | X11: BOB
E12: =C12+D12 -> 0 | H12: =F12+G12 -> 0 | K12: =I12+J12 -> 0 | N12: =L12+M12 -> 0 | Q12: =O12+P12 -> 0 | T12: =R12+S12 -> 0 | U12: =C12+F12+I12+L12+O12+R12 -> 0 | V12: =D12+G12+J12+M12+P12+S12 -> 0 | W12: =E12+H12+K12+N12+Q12+T12 -> 0 | X12: BOB
E13: =C13+D13 -> 0 | H13: =F13+G13 -> 0 | K13: =I13+J13 -> 0 | N13: =L13+M13 -> 0 | Q13: =O13+P13 -> 0 | T13: =R13+S13 -> 0 | U13: =C13+F13+I13+L13+O13+R13 -> 0 | V13: =D13+G13+J13+M13+P13+S13 -> 0 | W13: =E13+H13+K13+N13+Q13+T13 -> 0 | X13: BOB
E14: =C14+D14 -> 0 | H14: =F14+G14 -> 0 | K14: =I14+J14 -> 0 | N14: =L14+M14 -> 0 | Q14: =O14+P14 -> 0 | T14: =R14+S14 -> 0 | U14: =C14+F14+I14+L14+O14+R14 -> 0 | V14: =D14+G14+J14+M14+P14+S14 -> 0 | W14: =E14+H14+K14+N14+Q14+T14 -> 0 | X14: BOB
E15: =C15+D15 -> 0 | H15: =F15+G15 -> 0 | K15: =I15+J15 -> 0 | N15: =L15+M15 -> 0 | Q15: =O15+P15 -> 0 | T15: =R15+S15 -> 0 | U15: =C15+F15+I15+L15+O15+R15 -> 0 | V15: =D15+G15+J15+M15+P15+S15 -> 0 | W15: =E15+H15+K15+N15+Q15+T15 -> 0 | X15: BOB
C16: Z | D16: G | E16: % | F16: Z | G16: G | H16: % | I16: Z | J16: G | K16: % | L16: Z | M16: G | N16: % | O16: Z | P16: G | Q16: % | R16: Z | S16: G | T16: % | U16: Z | V16: G | W16: % | X16: BOB
A17: B | B17: Jan Učík | C17: 7 | D17: 0 | E17: =C17/(C17+D17)*100 -> 100 | F17: 4 | G17: 1 | H17: =F17/(F17+G17)*100 -> 80 | I17: 7 | J17: 3 | K17: =I17/(I17+J17)*100 -> 70 | L17: 8 | M17: 5 | N17: =L17/(L17+M17)*100 -> 61.538462 | Q17: =O17/(O17+P17)*100 -> #DIV/0! | T17: =R17/(R17+S17)*100 -> #DIV/0! | U17: =C17+F17+I17+L17+O17+R17 -> 26 | V17: =D17+G17+J17+M17+P17+S17 -> 9 | W17: =U17/(U17+V17)*100 -> 74.285714 | X17: BOB

Sheet Bobříci
B1: Bobříci | C1: BOB 1:18 | F1: FAB 5:12 | I1: LOW 2:23 | L1: STO 4:19 | U1: CELKEM
A2: Číslo | C2: G | D2: N | E2: K | F2: G | G2: N | H2: K | I2: G | J2: N | K2: K | L2: G | M2: N | N2: K | O2: G | P2: N | Q2: K | R2: G | S2: N | T2: K | U2: G | V2: N | W2: K
A3: 19 | B3: Maxmilián Maleček | E3: =C3+D3 -> 0 | H3: =F3+G3 -> 0 | K3: =I3+J3 -> 0 | M3: 1 | N3: =L3+M3 -> 1 | Q3: =O3+P3 -> 0 | T3: =R3+S3 -> 0 | U3: =C3+F3+I3+L3+O3+R3 -> 0 | V3: =D3+G3+J3+M3+P3+S3 -> 1 | W3: =E3+H3+K3+N3+Q3+T3 -> 1 | X3: BCI
A4: 3 | B4: Adam Otčenáš | E4: =C4+D4 -> 0 | F4: 1 | G4: 1 | H4: =F4+G4 -> 2 | K4: =I4+J4 -> 0 | N4: =L4+M4 -> 0 | Q4: =O4+P4 -> 0 | T4: =R4+S4 -> 0 | U4: =C4+F4+I4+L4+O4+R4 -> 1 | V4: =D4+G4+J4+M4+P4+S4 -> 1 | W4: =E4+H4+K4+N4+Q4+T4 -> 2 | X4: BCI
A5: 4 | B5: Emil Hejda | C5: 1 | E5: =C5+D5 -> 1 | F5: 2 | G5: 1 | H5: =F5+G5 -> 3 | K5: =I5+J5 -> 0 | L5: 1 | N5: =L5+M5 -> 1 | Q5: =O5+P5 -> 0 | T5: =R5+S5 -> 0 | U5: =C5+F5+I5+L5+O5+R5 -> 4 | V5: =D5+G5+J5+M5+P5+S5 -> 1 | W5: =E5+H5+K5+N5+Q5+T5 -> 5 | X5: BCI
A6: 12 | B6: Kryštof Abel | E6: =C6+D6 -> 0 | F6: 2 | H6: =F6+G6 -> 2 | I6: 1 | K6: =I6+J6 -> 1 | L6: 3 | N6: =L6+M6 -> 3 | Q6: =O6+P6 -> 0 | T6: =R6+S6 -> 0 | U6: =C6+F6+I6+L6+O6+R6 -> 6 | V6: =D6+G6+J6+M6+P6+S6 -> 0 | W6: =E6+H6+K6+N6+Q6+T6 -> 6 | X6: BCI
A7: 11 | B7: Benjamín Mesany | E7: =C7+D7 -> 0 | H7: =F7+G7 -> 0 | I7: 1 | K7: =I7+J7 -> 1 | N7: =L7+M7 -> 0 | Q7: =O7+P7 -> 0 | T7: =R7+S7 -> 0 | U7: =C7+F7+I7+L7+O7+R7 -> 1 | V7: =D7+G7+J7+M7+P7+S7 -> 0 | W7: =E7+H7+K7+N7+Q7+T7 -> 1 | X7: BCI
E8: =C8+D8 -> 0 | H8: =F8+G8 -> 0 | K8: =I8+J8 -> 0 | N8: =L8+M8 -> 0 | Q8: =O8+P8 -> 0 | T8: =R8+S8 -> 0 | U8: =C8+F8+I8+L8+O8+R8 -> 0 | V8: =D8+G8+J8+M8+P8+S8 -> 0 | W8: =E8+H8+K8+N8+Q8+T8 -> 0 | X8: BCI
E9: =C9+D9 -> 0 | H9: =F9+G9 -> 0 | K9: =I9+J9 -> 0 | N9: =L9+M9 -> 0 | Q9: =O9+P9 -> 0 | T9: =R9+S9 -> 0 | U9: =C9+F9+I9+L9+O9+R9 -> 0 | V9: =D9+G9+J9+M9+P9+S9 -> 0 | W9: =E9+H9+K9+N9+Q9+T9 -> 0 | X9: BCI
E10: =C10+D10 -> 0 | H10: =F10+G10 -> 0 | K10: =I10+J10 -> 0 | N10: =L10+M10 -> 0 | Q10: =O10+P10 -> 0 | T10: =R10+S10 -> 0 | U10: =C10+F10+I10+L10+O10+R10 -> 0 | V10: =D10+G10+J10+M10+P10+S10 -> 0 | W10: =E10+H10+K10+N10+Q10+T10 -> 0 | X10: BCI
E11: =C11+D11 -> 0 | H11: =F11+G11 -> 0 | K11: =I11+J11 -> 0 | N11: =L11+M11 -> 0 | Q11: =O11+P11 -> 0 | T11: =R11+S11 -> 0 | U11: =C11+F11+I11+L11+O11+R11 -> 0 | V11: =D11+G11+J11+M11+P11+S11 -> 0 | W11: =E11+H11+K11+N11+Q11+T11 -> 0 | X11: BCI
E12: =C12+D12 -> 0 | H12: =F12+G12 -> 0 | K12: =I12+J12 -> 0 | N12: =L12+M12 -> 0 | Q12: =O12+P12 -> 0 | T12: =R12+S12 -> 0 | U12: =C12+F12+I12+L12+O12+R12 -> 0 | V12: =D12+G12+J12+M12+P12+S12 -> 0 | W12: =E12+H12+K12+N12+Q12+T12 -> 0 | X12: BCI
E13: =C13+D13 -> 0 | H13: =F13+G13 -> 0 | K13: =I13+J13 -> 0 | N13: =L13+M13 -> 0 | Q13: =O13+P13 -> 0 | T13: =R13+S13 -> 0 | U13: =C13+F13+I13+L13+O13+R13 -> 0 | V13: =D13+G13+J13+M13+P13+S13 -> 0 | W13: =E13+H13+K13+N13+Q13+T13 -> 0 | X13: BCI
E14: =C14+D14 -> 0 | H14: =F14+G14 -> 0 | K14: =I14+J14 -> 0 | N14: =L14+M14 -> 0 | Q14: =O14+P14 -> 0 | T14: =R14+S14 -> 0 | U14: =C14+F14+I14+L14+O14+R14 -> 0 | V14: =D14+G14+J14+M14+P14+S14 -> 0 | W14: =E14+H14+K14+N14+Q14+T14 -> 0 | X14: BCI
E15: =C15+D15 -> 0 | H15: =F15+G15 -> 0 | K15: =I15+J15 -> 0 | N15: =L15+M15 -> 0 | Q15: =O15+P15 -> 0 | T15: =R15+S15 -> 0 | U15: =C15+F15+I15+L15+O15+R15 -> 0 | V15: =D15+G15+J15+M15+P15+S15 -> 0 | W15: =E15+H15+K15+N15+Q15+T15 -> 0 | X15: BCI
C16: Z | D16: G | E16: % | F16: Z | G16: G | H16: % | I16: Z | J16: G | K16: % | L16: Z | M16: G | N16: % | O16: Z | P16: G | Q16: % | R16: Z | S16: G | T16: % | U16: Z | V16: G | W16: % | X16: BCI
A17: B | B17: Jonáš Vodňanský | C17: 16 | D17: 18 | E17: =C17/(C17+D17)*100 -> 47.058824 | F17: 15 | G17: 12 | H17: =F17/(F17+G17)*100 -> 55.555556 | I17: 13 | J17: 23 | K17: =I17/(I17+J17)*100 -> 36.111111 | L17: 9 | M17: 19 | N17: =L17/(L17+M17)*100 -> 32.142857 | Q17: =O17/(O17+P17)*100 -> #DIV/0! | T17: =R17/(R17+S17)*100 -> #DIV/0! | U17: =C17+F17+I17+L17+O17+R17 -> 53 | V17: =D17+G17+J17+M17+P17+S17 -> 72 | W17: =U17/(U17+V17)*100 -> 42.4 | X17: BCI

Sheet Lowlanders
B1: Lowlanders | C1: FAB 16:7 | F1: BCI 23:2 | I1: STO 16:1 | L1: BOB 5:16 | U1: CELKEM
A2: Číslo | C2: G | D2: N | E2: K | F2: G | G2: N | H2: K | I2: G | J2: N | K2: K | L2: G | M2: N | N2: K | O2: G | P2: N | Q2: K | R2: G | S2: N | T2: K | U2: G | V2: N | W2: K
A3: 3 | B3: Roman Hohn | C3: 7 | D3: 1 | E3: =C3+D3 -> 8 | F3: 6 | G3: 1 | H3: =F3+G3 -> 7 | I3: 7 | J3: 2 | K3: =I3+J3 -> 9 | L3: 1 | M3: 1 | N3: =L3+M3 -> 2 | Q3: =O3+P3 -> 0 | T3: =R3+S3 -> 0 | U3: =C3+F3+I3+L3+O3+R3 -> 21 | V3: =D3+G3+J3+M3+P3+S3 -> 5 | W3: =E3+H3+K3+N3+Q3+T3 -> 26 | X3: LOW
A4: 4 | B4: Jakub Holinka | C4: 7 | D4: 2 | E4: =C4+D4 -> 9 | F4: 9 | H4: =F4+G4 -> 9 | I4: 4 | J4: 4 | K4: =I4+J4 -> 8 | L4: 1 | N4: =L4+M4 -> 1 | Q4: =O4+P4 -> 0 | T4: =R4+S4 -> 0 | U4: =C4+F4+I4+L4+O4+R4 -> 21 | V4: =D4+G4+J4+M4+P4+S4 -> 6 | W4: =E4+H4+K4+N4+Q4+T4 -> 27 | X4: LOW
A5: 9 | B5: Hynek Matura | C5: 1 | D5: 2 | E5: =C5+D5 -> 3 | F5: 3 | G5: 5 | H5: =F5+G5 -> 8 | I5: 3 | J5: 1 | K5: =I5+J5 -> 4 | L5: 1 | N5: =L5+M5 -> 1 | Q5: =O5+P5 -> 0 | T5: =R5+S5 -> 0 | U5: =C5+F5+I5+L5+O5+R5 -> 8 | V5: =D5+G5+J5+M5+P5+S5 -> 8 | W5: =E5+H5+K5+N5+Q5+T5 -> 16 | X5: LOW
A6: 26 | B6: Hanka Čechová | D6: 1 | E6: =C6+D6 -> 1 | F6: 2 | G6: 2 | H6: =F6+G6 -> 4 | I6: 1 | J6: 2 | K6: =I6+J6 -> 3 | N6: =L6+M6 -> 0 | Q6: =O6+P6 -> 0 | T6: =R6+S6 -> 0 | U6: =C6+F6+I6+L6+O6+R6 -> 3 | V6: =D6+G6+J6+M6+P6+S6 -> 5 | W6: =E6+H6+K6+N6+Q6+T6 -> 8 | X6: LOW
A7: 13 | B7: Jáchym Čech | C7: 1 | D7: 3 | E7: =C7+D7 -> 4 | G7: 5 | H7: =F7+G7 -> 5 | J7: 1 | K7: =I7+J7 -> 1 | M7: 2 | N7: =L7+M7 -> 2 | Q7: =O7+P7 -> 0 | T7: =R7+S7 -> 0 | U7: =C7+F7+I7+L7+O7+R7 -> 1 | V7: =D7+G7+J7+M7+P7+S7 -> 11 | W7: =E7+H7+K7+N7+Q7+T7 -> 12 | X7: LOW
A8: 32 | B8: Kopecký Filip | D8: 1 | E8: =C8+D8 -> 1 | F8: 3 | G8: 4 | H8: =F8+G8 -> 7 | I8: 1 | J8: 4 | K8: =I8+J8 -> 5 | L8: 2 | N8: =L8+M8 -> 2 | Q8: =O8+P8 -> 0 | T8: =R8+S8 -> 0 | U8: =C8+F8+I8+L8+O8+R8 -> 6 | V8: =D8+G8+J8+M8+P8+S8 -> 9 | W8: =E8+H8+K8+N8+Q8+T8 -> 15 | X8: LOW
A9: 5 | B9: Robert Lubojacký | E9: =C9+D9 -> 0 | F9: 1 | G9: 2 | H9: =F9+G9 -> 3 | K9: =I9+J9 -> 0 | M9: 1 | N9: =L9+M9 -> 1 | Q9: =O9+P9 -> 0 | T9: =R9+S9 -> 0 | U9: =C9+F9+I9+L9+O9+R9 -> 1 | V9: =D9+G9+J9+M9+P9+S9 -> 3 | W9: =E9+H9+K9+N9+Q9+T9 -> 4 | X9: LOW
E10: =C10+D10 -> 0 | H10: =F10+G10 -> 0 | K10: =I10+J10 -> 0 | N10: =L10+M10 -> 0 | Q10: =O10+P10 -> 0 | T10: =R10+S10 -> 0 | U10: =C10+F10+I10+L10+O10+R10 -> 0 | V10: =D10+G10+J10+M10+P10+S10 -> 0 | W10: =E10+H10+K10+N10+Q10+T10 -> 0 | X10: LOW
E11: =C11+D11 -> 0 | H11: =F11+G11 -> 0 | K11: =I11+J11 -> 0 | N11: =L11+M11 -> 0 | Q11: =O11+P11 -> 0 | T11: =R11+S11 -> 0 | U11: =C11+F11+I11+L11+O11+R11 -> 0 | V11: =D11+G11+J11+M11+P11+S11 -> 0 | W11: =E11+H11+K11+N11+Q11+T11 -> 0 | X11: LOW
E12: =C12+D12 -> 0 | H12: =F12+G12 -> 0 | K12: =I12+J12 -> 0 | N12: =L12+M12 -> 0 | Q12: =O12+P12 -> 0 | T12: =R12+S12 -> 0 | U12: =C12+F12+I12+L12+O12+R12 -> 0 | V12: =D12+G12+J12+M12+P12+S12 -> 0 | W12: =E12+H12+K12+N12+Q12+T12 -> 0 | X12: LOW
E13: =C13+D13 -> 0 | H13: =F13+G13 -> 0 | K13: =I13+J13 -> 0 | N13: =L13+M13 -> 0 | Q13: =O13+P13 -> 0 | T13: =R13+S13 -> 0 | U13: =C13+F13+I13+L13+O13+R13 -> 0 | V13: =D13+G13+J13+M13+P13+S13 -> 0 | W13: =E13+H13+K13+N13+Q13+T13 -> 0 | X13: LOW
E14: =C14+D14 -> 0 | H14: =F14+G14 -> 0 | K14: =I14+J14 -> 0 | N14: =L14+M14 -> 0 | Q14: =O14+P14 -> 0 | T14: =R14+S14 -> 0 | U14: =C14+F14+I14+L14+O14+R14 -> 0 | V14: =D14+G14+J14+M14+P14+S14 -> 0 | W14: =E14+H14+K14+N14+Q14+T14 -> 0 | X14: LOW
E15: =C15+D15 -> 0 | H15: =F15+G15 -> 0 | K15: =I15+J15 -> 0 | N15: =L15+M15 -> 0 | Q15: =O15+P15 -> 0 | T15: =R15+S15 -> 0 | U15: =C15+F15+I15+L15+O15+R15 -> 0 | V15: =D15+G15+J15+M15+P15+S15 -> 0 | W15: =E15+H15+K15+N15+Q15+T15 -> 0 | X15: LOW
C16: Z | D16: G | E16: % | F16: Z | G16: G | H16: % | I16: Z | J16: G | K16: % | L16: Z | M16: G | N16: % | O16: Z | P16: G | Q16: % | R16: Z | S16: G | T16: % | U16: Z | V16: G | W16: % | X16: LOW
A17: 39 | B17: Martin Čulík | C17: 10 | D17: 7 | E17: =C17/(C17+D17)*100 -> 58.823529 | F17: 8 | G17: 2 | H17: =F17/(F17+G17)*100 -> 80 | I17: 5 | J17: 1 | K17: =I17/(I17+J17)*100 -> 83.333333 | L17: 8 | M17: 16 | N17: =L17/(L17+M17)*100 -> 33.333333 | Q17: =O17/(O17+P17)*100 -> #DIV/0! | T17: =R17/(R17+S17)*100 -> #DIV/0! | U17: =C17+F17+I17+L17+O17+R17 -> 31 | V17: =D17+G17+J17+M17+P17+S17 -> 26 | W17: =U17/(U17+V17)*100 -> 54.385965 | X17: LOW

Sheet Stopaři
B1: Stopaři | C1: BOB 0:19 | F1: FAB 11:4 | I1: BCI 19:4 | L1: LOW 16:1 | U1: CELKEM
A2: Číslo | C2: G | D2: N | E2: K | F2: G | G2: N | H2: K | I2: G | J2: N | K2: K | L2: G | M2: N | N2: K | O2: G | P2: N | Q2: K | R2: G | S2: N | T2: K | U2: G | V2: N | W2: K
A3: 7 | B3: Adam Vrána | E3: =C3+D3 -> 0 | F3: 3 | G3: 2 | H3: =F3+G3 -> 5 | I3: 9 | K3: =I3+J3 -> 9 | N3: =L3+M3 -> 0 | Q3: =O3+P3 -> 0 | T3: =R3+S3 -> 0 | U3: =C3+F3+I3+L3+O3+R3 -> 12 | V3: =D3+G3+J3+M3+P3+S3 -> 2 | W3: =E3+H3+K3+N3+Q3+T3 -> 14 | X3: STO
A4: 12 | B4: Matyáš Sedlák | E4: =C4+D4 -> 0 | F4: 4 | G4: 1 | H4: =F4+G4 -> 5 | I4: 4 | J4: 5 | K4: =I4+J4 -> 9 | N4: =L4+M4 -> 0 | Q4: =O4+P4 -> 0 | T4: =R4+S4 -> 0 | U4: =C4+F4+I4+L4+O4+R4 -> 8 | V4: =D4+G4+J4+M4+P4+S4 -> 6 | W4: =E4+H4+K4+N4+Q4+T4 -> 14 | X4: STO
A5: 10 | B5: Štěpán Šprincl | E5: =C5+D5 -> 0 | F5: 2 | G5: 1 | H5: =F5+G5 -> 3 | I5: 2 | J5: 6 | K5: =I5+J5 -> 8 | L5: 1 | N5: =L5+M5 -> 1 | Q5: =O5+P5 -> 0 | T5: =R5+S5 -> 0 | U5: =C5+F5+I5+L5+O5+R5 -> 5 | V5: =D5+G5+J5+M5+P5+S5 -> 7 | W5: =E5+H5+K5+N5+Q5+T5 -> 12 | X5: STO
A6: 13 | B6: Valdemar Kočí | E6: =C6+D6 -> 0 | F6: 1 | H6: =F6+G6 -> 1 | I6: 3 | J6: 2 | K6: =I6+J6 -> 5 | N6: =L6+M6 -> 0 | Q6: =O6+P6 -> 0 | T6: =R6+S6 -> 0 | U6: =C6+F6+I6+L6+O6+R6 -> 4 | V6: =D6+G6+J6+M6+P6+S6 -> 2 | W6: =E6+H6+K6+N6+Q6+T6 -> 6 | X6: STO
A7: 14 | B7: Martin Vagner | E7: =C7+D7 -> 0 | F7: 1 | G7: 1 | H7: =F7+G7 -> 2 | J7: 1 | K7: =I7+J7 -> 1 | M7: 1 | N7: =L7+M7 -> 1 | Q7: =O7+P7 -> 0 | T7: =R7+S7 -> 0 | U7: =C7+F7+I7+L7+O7+R7 -> 1 | V7: =D7+G7+J7+M7+P7+S7 -> 3 | W7: =E7+H7+K7+N7+Q7+T7 -> 4 | X7: STO
A8: 1 | B8: Tomáš Vagner | E8: =C8+D8 -> 0 | H8: =F8+G8 -> 0 | K8: =I8+J8 -> 0 | N8: =L8+M8 -> 0 | Q8: =O8+P8 -> 0 | T8: =R8+S8 -> 0 | U8: =C8+F8+I8+L8+O8+R8 -> 0 | V8: =D8+G8+J8+M8+P8+S8 -> 0 | W8: =E8+H8+K8+N8+Q8+T8 -> 0 | X8: STO
A9: 6 | B9: Prokop Sedlák | E9: =C9+D9 -> 0 | H9: =F9+G9 -> 0 | K9: =I9+J9 -> 0 | N9: =L9+M9 -> 0 | Q9: =O9+P9 -> 0 | T9: =R9+S9 -> 0 | U9: =C9+F9+I9+L9+O9+R9 -> 0 | V9: =D9+G9+J9+M9+P9+S9 -> 0 | W9: =E9+H9+K9+N9+Q9+T9 -> 0 | X9: STO
A10: 3 | B10: Marek Šprincl | E10: =C10+D10 -> 0 | H10: =F10+G10 -> 0 | I10: 1 | K10: =I10+J10 -> 1 | N10: =L10+M10 -> 0 | Q10: =O10+P10 -> 0 | T10: =R10+S10 -> 0 | U10: =C10+F10+I10+L10+O10+R10 -> 1 | V10: =D10+G10+J10+M10+P10+S10 -> 0 | W10: =E10+H10+K10+N10+Q10+T10 -> 1 | X10: STO
A11: 4 | B11: Matěj Bartoš | E11: =C11+D11 -> 0 | H11: =F11+G11 -> 0 | K11: =I11+J11 -> 0 | N11: =L11+M11 -> 0 | Q11: =O11+P11 -> 0 | T11: =R11+S11 -> 0 | U11: =C11+F11+I11+L11+O11+R11 -> 0 | V11: =D11+G11+J11+M11+P11+S11 -> 0 | W11: =E11+H11+K11+N11+Q11+T11 -> 0 | X11: STO
E12: =C12+D12 -> 0 | H12: =F12+G12 -> 0 | K12: =I12+J12 -> 0 | N12: =L12+M12 -> 0 | Q12: =O12+P12 -> 0 | T12: =R12+S12 -> 0 | U12: =C12+F12+I12+L12+O12+R12 -> 0 | V12: =D12+G12+J12+M12+P12+S12 -> 0 | W12: =E12+H12+K12+N12+Q12+T12 -> 0 | X12: STO
E13: =C13+D13 -> 0 | H13: =F13+G13 -> 0 | K13: =I13+J13 -> 0 | N13: =L13+M13 -> 0 | Q13: =O13+P13 -> 0 | T13: =R13+S13 -> 0 | U13: =C13+F13+I13+L13+O13+R13 -> 0 | V13: =D13+G13+J13+M13+P13+S13 -> 0 | W13: =E13+H13+K13+N13+Q13+T13 -> 0 | X13: STO
E14: =C14+D14 -> 0 | H14: =F14+G14 -> 0 | K14: =I14+J14 -> 0 | N14: =L14+M14 -> 0 | Q14: =O14+P14 -> 0 | T14: =R14+S14 -> 0 | U14: =C14+F14+I14+L14+O14+R14 -> 0 | V14: =D14+G14+J14+M14+P14+S14 -> 0 | W14: =E14+H14+K14+N14+Q14+T14 -> 0 | X14: STO
E15: =C15+D15 -> 0 | H15: =F15+G15 -> 0 | K15: =I15+J15 -> 0 | N15: =L15+M15 -> 0 | Q15: =O15+P15 -> 0 | T15: =R15+S15 -> 0 | U15: =C15+F15+I15+L15+O15+R15 -> 0 | V15: =D15+G15+J15+M15+P15+S15 -> 0 | W15: =E15+H15+K15+N15+Q15+T15 -> 0 | X15: STO
C16: Z | D16: G | E16: % | F16: Z | G16: G | H16: % | I16: Z | J16: G | K16: % | L16: Z | M16: G | N16: % | O16: Z | P16: G | Q16: % | R16: Z | S16: G | T16: % | U16: Z | V16: G | W16: % | X16: STO
B17: Tomáš Vagner | C17: 21 | D17: 19 | E17: =C17/(C17+D17)*100 -> 52.5 | F17: 9 | G17: 4 | H17: =F17/(F17+G17)*100 -> 69.230769 | I17: 4 | J17: 4 | K17: =I17/(I17+J17)*100 -> 50 | L17: 7 | M17: 16 | N17: =L17/(L17+M17)*100 -> 30.434783 | Q17: =O17/(O17+P17)*100 -> #DIV/0! | T17: =R17/(R17+S17)*100 -> #DIV/0! | U17: =C17+F17+I17+L17+O17+R17 -> 41 | V17: =D17+G17+J17+M17+P17+S17 -> 43 | W17: =U17/(U17+V17)*100 -> 48.809524 | X17: STO

Sheet Fabiánky
B1: Fabiánky | C1: LOW 7:16 | F1: BCI 12:5 | I1: STO 4:11 | L1: BOB 3:20 | U1: CELKEM
A2: Číslo | C2: G | D2: N | E2: K | F2: G | G2: N | H2: K | I2: G | J2: N | K2: K | L2: G | M2: N | N2: K | O2: G | P2: N | Q2: K | R2: G | S2: N | T2: K | U2: G | V2: N | W2: K
A3: 3 | B3: Nikol Dovicová | C3: 4 | D3: 2 | E3: =C3+D3 -> 6 | F3: 7 | G3: 1 | H3: =F3+G3 -> 8 | I3: 2 | J3: 1 | K3: =I3+J3 -> 3 | L3: 1 | N3: =L3+M3 -> 1 | Q3: =O3+P3 -> 0 | T3: =R3+S3 -> 0 | U3: =C3+F3+I3+L3+O3+R3 -> 14 | V3: =D3+G3+J3+M3+P3+S3 -> 4 | W3: =E3+H3+K3+N3+Q3+T3 -> 18 | X3: FAB
A4: 5 | B4: Tereza Nodžáková | C4: 2 | D4: 1 | E4: =C4+D4 -> 3 | F4: 3 | H4: =F4+G4 -> 3 | I4: 1 | K4: =I4+J4 -> 1 | N4: =L4+M4 -> 0 | Q4: =O4+P4 -> 0 | T4: =R4+S4 -> 0 | U4: =C4+F4+I4+L4+O4+R4 -> 6 | V4: =D4+G4+J4+M4+P4+S4 -> 1 | W4: =E4+H4+K4+N4+Q4+T4 -> 7 | X4: FAB
A5: 4 | B5: Sára Elicarová | C5: 1 | D5: 1 | E5: =C5+D5 -> 2 | F5: 1 | H5: =F5+G5 -> 1 | I5: 1 | J5: 1 | K5: =I5+J5 -> 2 | L5: 1 | N5: =L5+M5 -> 1 | Q5: =O5+P5 -> 0 | T5: =R5+S5 -> 0 | U5: =C5+F5+I5+L5+O5+R5 -> 4 | V5: =D5+G5+J5+M5+P5+S5 -> 2 | W5: =E5+H5+K5+N5+Q5+T5 -> 6 | X5: FAB
A6: 7 | B6: Valerie Elicarová | D6: 1 | E6: =C6+D6 -> 1 | F6: 1 | H6: =F6+G6 -> 1 | K6: =I6+J6 -> 0 | N6: =L6+M6 -> 0 | Q6: =O6+P6 -> 0 | T6: =R6+S6 -> 0 | U6: =C6+F6+I6+L6+O6+R6 -> 1 | V6: =D6+G6+J6+M6+P6+S6 -> 1 | W6: =E6+H6+K6+N6+Q6+T6 -> 2 | X6: FAB
A7: 11 | B7: Ellen Tichá | E7: =C7+D7 -> 0 | H7: =F7+G7 -> 0 | K7: =I7+J7 -> 0 | N7: =L7+M7 -> 0 | Q7: =O7+P7 -> 0 | T7: =R7+S7 -> 0 | U7: =C7+F7+I7+L7+O7+R7 -> 0 | V7: =D7+G7+J7+M7+P7+S7 -> 0 | W7: =E7+H7+K7+N7+Q7+T7 -> 0 | X7: FAB
A8: 2 | B8: Zuzana Straková | E8: =C8+D8 -> 0 | H8: =F8+G8 -> 0 | K8: =I8+J8 -> 0 | L8: 1 | N8: =L8+M8 -> 1 | Q8: =O8+P8 -> 0 | T8: =R8+S8 -> 0 | U8: =C8+F8+I8+L8+O8+R8 -> 1 | V8: =D8+G8+J8+M8+P8+S8 -> 0 | W8: =E8+H8+K8+N8+Q8+T8 -> 1 | X8: FAB
E9: =C9+D9 -> 0 | H9: =F9+G9 -> 0 | K9: =I9+J9 -> 0 | N9: =L9+M9 -> 0 | Q9: =O9+P9 -> 0 | T9: =R9+S9 -> 0 | U9: =C9+F9+I9+L9+O9+R9 -> 0 | V9: =D9+G9+J9+M9+P9+S9 -> 0 | W9: =E9+H9+K9+N9+Q9+T9 -> 0 | X9: FAB
E10: =C10+D10 -> 0 | H10: =F10+G10 -> 0 | K10: =I10+J10 -> 0 | N10: =L10+M10 -> 0 | Q10: =O10+P10 -> 0 | T10: =R10+S10 -> 0 | U10: =C10+F10+I10+L10+O10+R10 -> 0 | V10: =D10+G10+J10+M10+P10+S10 -> 0 | W10: =E10+H10+K10+N10+Q10+T10 -> 0 | X10: FAB
E11: =C11+D11 -> 0 | H11: =F11+G11 -> 0 | K11: =I11+J11 -> 0 | N11: =L11+M11 -> 0 | Q11: =O11+P11 -> 0 | T11: =R11+S11 -> 0 | U11: =C11+F11+I11+L11+O11+R11 -> 0 | V11: =D11+G11+J11+M11+P11+S11 -> 0 | W11: =E11+H11+K11+N11+Q11+T11 -> 0 | X11: FAB
E12: =C12+D12 -> 0 | H12: =F12+G12 -> 0 | K12: =I12+J12 -> 0 | N12: =L12+M12 -> 0 | Q12: =O12+P12 -> 0 | T12: =R12+S12 -> 0 | U12: =C12+F12+I12+L12+O12+R12 -> 0 | V12: =D12+G12+J12+M12+P12+S12 -> 0 | W12: =E12+H12+K12+N12+Q12+T12 -> 0 | X12: FAB
E13: =C13+D13 -> 0 | H13: =F13+G13 -> 0 | K13: =I13+J13 -> 0 | N13: =L13+M13 -> 0 | Q13: =O13+P13 -> 0 | T13: =R13+S13 -> 0 | U13: =C13+F13+I13+L13+O13+R13 -> 0 | V13: =D13+G13+J13+M13+P13+S13 -> 0 | W13: =E13+H13+K13+N13+Q13+T13 -> 0 | X13: FAB
E14: =C14+D14 -> 0 | H14: =F14+G14 -> 0 | K14: =I14+J14 -> 0 | N14: =L14+M14 -> 0 | Q14: =O14+P14 -> 0 | T14: =R14+S14 -> 0 | U14: =C14+F14+I14+L14+O14+R14 -> 0 | V14: =D14+G14+J14+M14+P14+S14 -> 0 | W14: =E14+H14+K14+N14+Q14+T14 -> 0 | X14: FAB
E15: =C15+D15 -> 0 | H15: =F15+G15 -> 0 | K15: =I15+J15 -> 0 | N15: =L15+M15 -> 0 | Q15: =O15+P15 -> 0 | T15: =R15+S15 -> 0 | U15: =C15+F15+I15+L15+O15+R15 -> 0 | V15: =D15+G15+J15+M15+P15+S15 -> 0 | W15: =E15+H15+K15+N15+Q15+T15 -> 0 | X15: FAB
C16: Z | D16: G | E16: % | F16: Z | G16: G | H16: % | I16: Z | J16: G | K16: % | L16: Z | M16: G | N16: % | O16: Z | P16: G | Q16: % | R16: Z | S16: G | T16: % | U16: Z | V16: G | W16: % | X16: FAB
B17: Vrána, Učík, Učík, Hejda | C17: 14 | D17: 16 | E17: =C17/(C17+D17)*100 -> 46.666667 | F17: 11 | G17: 5 | H17: =F17/(F17+G17)*100 -> 68.75 | I17: 14 | J17: 11 | K17: =I17/(I17+J17)*100 -> 56 | L17: 22 | M17: 20 | N17: =L17/(L17+M17)*100 -> 52.380952 | Q17: =O17/(O17+P17)*100 -> #DIV/0! | T17: =R17/(R17+S17)*100 -> #DIV/0! | U17: =C17+F17+I17+L17+O17+R17 -> 61 | V17: =D17+G17+J17+M17+P17+S17 -> 52 | W17: =U17/(U17+V17)*100 -> 53.982301 | X17: FAB

Sheet Rezerva
U1: CELKEM
A2: Číslo | C2: G | D2: N | E2: K | F2: G | G2: N | H2: K | I2: G | J2: N | K2: K | L2: G | M2: N | N2: K | O2: G | P2: N | Q2: K | R2: G | S2: N | T2: K | U2: G | V2: N | W2: K
E3: =C3+D3 -> 0 | H3: =F3+G3 -> 0 | K3: =I3+J3 -> 0 | N3: =L3+M3 -> 0 | Q3: =O3+P3 -> 0 | T3: =R3+S3 -> 0 | U3: =C3+F3+I3+L3+O3+R3 -> 0 | V3: =D3+G3+J3+M3+P3+S3 -> 0 | W3: =E3+H3+K3+N3+Q3+T3 -> 0
E4: =C4+D4 -> 0 | H4: =F4+G4 -> 0 | K4: =I4+J4 -> 0 | N4: =L4+M4 -> 0 | Q4: =O4+P4 -> 0 | T4: =R4+S4 -> 0 | U4: =C4+F4+I4+L4+O4+R4 -> 0 | V4: =D4+G4+J4+M4+P4+S4 -> 0 | W4: =E4+H4+K4+N4+Q4+T4 -> 0
E5: =C5+D5 -> 0 | H5: =F5+G5 -> 0 | K5: =I5+J5 -> 0 | N5: =L5+M5 -> 0 | Q5: =O5+P5 -> 0 | T5: =R5+S5 -> 0 | U5: =C5+F5+I5+L5+O5+R5 -> 0 | V5: =D5+G5+J5+M5+P5+S5 -> 0 | W5: =E5+H5+K5+N5+Q5+T5 -> 0
E6: =C6+D6 -> 0 | H6: =F6+G6 -> 0 | K6: =I6+J6 -> 0 | N6: =L6+M6 -> 0 | Q6: =O6+P6 -> 0 | T6: =R6+S6 -> 0 | U6: =C6+F6+I6+L6+O6+R6 -> 0 | V6: =D6+G6+J6+M6+P6+S6 -> 0 | W6: =E6+H6+K6+N6+Q6+T6 -> 0
E7: =C7+D7 -> 0 | H7: =F7+G7 -> 0 | K7: =I7+J7 -> 0 | N7: =L7+M7 -> 0 | Q7: =O7+P7 -> 0 | T7: =R7+S7 -> 0 | U7: =C7+F7+I7+L7+O7+R7 -> 0 | V7: =D7+G7+J7+M7+P7+S7 -> 0 | W7: =E7+H7+K7+N7+Q7+T7 -> 0
E8: =C8+D8 -> 0 | H8: =F8+G8 -> 0 | K8: =I8+J8 -> 0 | N8: =L8+M8 -> 0 | Q8: =O8+P8 -> 0 | T8: =R8+S8 -> 0 | U8: =C8+F8+I8+L8+O8+R8 -> 0 | V8: =D8+G8+J8+M8+P8+S8 -> 0 | W8: =E8+H8+K8+N8+Q8+T8 -> 0
E9: =C9+D9 -> 0 | H9: =F9+G9 -> 0 | K9: =I9+J9 -> 0 | N9: =L9+M9 -> 0 | Q9: =O9+P9 -> 0 | T9: =R9+S9 -> 0 | U9: =C9+F9+I9+L9+O9+R9 -> 0 | V9: =D9+G9+J9+M9+P9+S9 -> 0 | W9: =E9+H9+K9+N9+Q9+T9 -> 0
E10: =C10+D10 -> 0 | H10: =F10+G10 -> 0 | K10: =I10+J10 -> 0 | N10: =L10+M10 -> 0 | Q10: =O10+P10 -> 0 | T10: =R10+S10 -> 0 | U10: =C10+F10+I10+L10+O10+R10 -> 0 | V10: =D10+G10+J10+M10+P10+S10 -> 0 | W10: =E10+H10+K10+N10+Q10+T10 -> 0
E11: =C11+D11 -> 0 | H11: =F11+G11 -> 0 | K11: =I11+J11 -> 0 | N11: =L11+M11 -> 0 | Q11: =O11+P11 -> 0 | T11: =R11+S11 -> 0 | U11: =C11+F11+I11+L11+O11+R11 -> 0 | V11: =D11+G11+J11+M11+P11+S11 -> 0 | W11: =E11+H11+K11+N11+Q11+T11 -> 0
E12: =C12+D12 -> 0 | H12: =F12+G12 -> 0 | K12: =I12+J12 -> 0 | N12: =L12+M12 -> 0 | Q12: =O12+P12 -> 0 | T12: =R12+S12 -> 0 | U12: =C12+F12+I12+L12+O12+R12 -> 0 | V12: =D12+G12+J12+M12+P12+S12 -> 0 | W12: =E12+H12+K12+N12+Q12+T12 -> 0
E13: =C13+D13 -> 0 | H13: =F13+G13 -> 0 | K13: =I13+J13 -> 0 | N13: =L13+M13 -> 0 | Q13: =O13+P13 -> 0 | T13: =R13+S13 -> 0 | U13: =C13+F13+I13+L13+O13+R13 -> 0 | V13: =D13+G13+J13+M13+P13+S13 -> 0 | W13: =E13+H13+K13+N13+Q13+T13 -> 0
E14: =C14+D14 -> 0 | H14: =F14+G14 -> 0 | K14: =I14+J14 -> 0 | N14: =L14+M14 -> 0 | Q14: =O14+P14 -> 0 | T14: =R14+S14 -> 0 | U14: =C14+F14+I14+L14+O14+R14 -> 0 | V14: =D14+G14+J14+M14+P14+S14 -> 0 | W14: =E14+H14+K14+N14+Q14+T14 -> 0
E15: =C15+D15 -> 0 | H15: =F15+G15 -> 0 | K15: =I15+J15 -> 0 | N15: =L15+M15 -> 0 | Q15: =O15+P15 -> 0 | T15: =R15+S15 -> 0 | U15: =C15+F15+I15+L15+O15+R15 -> 0 | V15: =D15+G15+J15+M15+P15+S15 -> 0 | W15: =E15+H15+K15+N15+Q15+T15 -> 0
C16: Z | D16: G | E16: % | F16: Z | G16: G | H16: % | I16: Z | J16: G | K16: % | L16: Z | M16: G | N16: % | O16: Z | P16: G | Q16: % | R16: Z | S16: G | T16: % | U16: Z | V16: G | W16: %
E17: =C17/(C17+D17)*100 -> #DIV/0! | H17: =F17/(F17+G17)*100 -> #DIV/0! | K17: =I17/(I17+J17)*100 -> #DIV/0! | N17: =L17/(L17+M17)*100 -> #DIV/0! | Q17: =O17/(O17+P17)*100 -> #DIV/0! | T17: =R17/(R17+S17)*100 -> #DIV/0! | U17: =C17+F17+I17+L17+O17+R17 -> 0 | V17: =D17+G17+J17+M17+P17+S17 -> 0 | W17: =U17/(U17+V17)*100 -> #DIV/0!

Sheet Brankáři
A1: Jméno | B1: Tým | C1: % | D1: Pořadí
A2: =Lowlanders!B17 -> Martin Čulík | B2: =Lowlanders!X17 -> LOW | C2: =Lowlanders!W17 -> 54.385965
A3: =#REF! -> #REF! | B3: =#REF! -> #REF! | C3: =#REF! -> #REF!
A4: =Stopaři!B17 -> Tomáš Vagner | B4: =Stopaři!X17 -> STO | C4: =Stopaři!W17 -> 48.809524
A5: =Rezerva!B17 -> 0 | B5: =Rezerva!X17 -> 0 | C5: =Rezerva!W17 -> #DIV/0!
A6: =Bobři!B17 -> Jan Učík | B6: =Bobři!X17 -> BOB | C6: =Bobři!W17 -> 74.285714 | D6: 1
A7: =Lowlanders!B17 -> Martin Čulík | B7: =Lowlanders!X17 -> LOW | C7: =Lowlanders!W17 -> 54.385965 | D7: 2
A8: =Fabiánky!B17 -> Vrána, Učík, Učík, Hejda | B8: =Fabiánky!X17 -> FAB | C8: =Fabiánky!W17 -> 53.982301
A9: =Stopaři!B17 -> Tomáš Vagner | B9: =Stopaři!X17 -> STO | C9: =Stopaři!W17 -> 48.809524 | D9: 3
A10: =Bobříci!B17 -> Jonáš Vodňanský | B10: =Bobříci!X17 -> BCI | C10: =Bobříci!W17 -> 42.4 | D10: 4

Sheet Hráči
A1: Jméno | B1: Tým | C1: G | D1: N | E1: K | F1: Poř. G | G1: Poř. N | H1: Poř. K
A2: =Bobři!B3 -> Samuel Mesany | B2: =Bobři!X3 -> BOB | C2: =IF(A2<>0,VLOOKUP(A2,Bobři!$B$3:$X$15,20,0),0) -> 29 | D2: =IF(A2<>0,VLOOKUP(A2,Bobři!$B$3:$X$15,21,0),0) -> 8 | E2: =IF(A2<>0,VLOOKUP(A2,Bobři!$B$3:$X$15,22,0),0) -> 37
A3: =Bobři!B4 -> Eliáš Mesany | B3: =Bobři!X4 -> BOB | C3: =IF(A3<>0,VLOOKUP(A3,Bobři!$B$3:$X$15,20,0),0) -> 22 | D3: =IF(A3<>0,VLOOKUP(A3,Bobři!$B$3:$X$15,21,0),0) -> 12 | E3: =IF(A3<>0,VLOOKUP(A3,Bobři!$B$3:$X$15,22,0),0) -> 34
A4: =Bobři!B5 -> Matyáš Dolenský | B4: =Bobři!X5 -> BOB | C4: =IF(A4<>0,VLOOKUP(A4,Bobři!$B$3:$X$15,20,0),0) -> 5 | D4: =IF(A4<>0,VLOOKUP(A4,Bobři!$B$3:$X$15,21,0),0) -> 2 | E4: =IF(A4<>0,VLOOKUP(A4,Bobři!$B$3:$X$15,22,0),0) -> 7
A5: =Bobři!B6 -> Vojtěch Procházka | B5: =Bobři!X6 -> BOB | C5: =IF(A5<>0,VLOOKUP(A5,Bobři!$B$3:$X$15,20,0),0) -> 17 | D5: =IF(A5<>0,VLOOKUP(A5,Bobři!$B$3:$X$15,21,0),0) -> 10 | E5: =IF(A5<>0,VLOOKUP(A5,Bobři!$B$3:$X$15,22,0),0) -> 27
A6: =Bobři!B7 -> Jan Procházka | B6: =Bobři!X7 -> BOB | C6: =IF(A6<>0,VLOOKUP(A6,Bobři!$B$3:$X$15,20,0),0) -> 0 | D6: =IF(A6<>0,VLOOKUP(A6,Bobři!$B$3:$X$15,21,0),0) -> 34 | E6: =IF(A6<>0,VLOOKUP(A6,Bobři!$B$3:$X$15,22,0),0) -> 34
A7: =Bobři!B8 -> Jan Učík | B7: =Bobři!X8 -> BOB | C7: =IF(A7<>0,VLOOKUP(A7,Bobři!$B$3:$X$15,20,0),0) -> 0 | D7: =IF(A7<>0,VLOOKUP(A7,Bobři!$B$3:$X$15,21,0),0) -> 1 | E7: =IF(A7<>0,VLOOKUP(A7,Bobři!$B$3:$X$15,22,0),0) -> 1
A8: =Bobři!B9 -> 0 | B8: =Bobři!X9 -> BOB | C8: =IF(A8<>0,VLOOKUP(A8,Bobři!$B$3:$X$15,20,0),0) -> 0 | D8: =IF(A8<>0,VLOOKUP(A8,Bobři!$B$3:$X$15,21,0),0) -> 0 | E8: =IF(A8<>0,VLOOKUP(A8,Bobři!$B$3:$X$15,22,0),0) -> 0
A9: =Bobři!B10 -> 0 | B9: =Bobři!X10 -> BOB | C9: =IF(A9<>0,VLOOKUP(A9,Bobři!$B$3:$X$15,20,0),0) -> 0 | D9: =IF(A9<>0,VLOOKUP(A9,Bobři!$B$3:$X$15,21,0),0) -> 0 | E9: =IF(A9<>0,VLOOKUP(A9,Bobři!$B$3:$X$15,22,0),0) -> 0
A10: =Bobři!B11 -> 0 | B10: =Bobři!X11 -> BOB | C10: =IF(A10<>0,VLOOKUP(A10,Bobři!$B$3:$X$15,20,0),0) -> 0 | D10: =IF(A10<>0,VLOOKUP(A10,Bobři!$B$3:$X$15,21,0),0) -> 0 | E10: =IF(A10<>0,VLOOKUP(A10,Bobři!$B$3:$X$15,22,0),0) -> 0
A11: =Bobři!B12 -> 0 | B11: =Bobři!X12 -> BOB | C11: =IF(A11<>0,VLOOKUP(A11,Bobři!$B$3:$X$15,20,0),0) -> 0 | D11: =IF(A11<>0,VLOOKUP(A11,Bobři!$B$3:$X$15,21,0),0) -> 0 | E11: =IF(A11<>0,VLOOKUP(A11,Bobři!$B$3:$X$15,22,0),0) -> 0
A12: =Bobři!B13 -> 0 | B12: =Bobři!X13 -> BOB | C12: =IF(A12<>0,VLOOKUP(A12,Bobři!$B$3:$X$15,20,0),0) -> 0 | D12: =IF(A12<>0,VLOOKUP(A12,Bobři!$B$3:$X$15,21,0),0) -> 0 | E12: =IF(A12<>0,VLOOKUP(A12,Bobři!$B$3:$X$15,22,0),0) -> 0
A13: =Bobři!B14 -> 0 | B13: =Bobři!X14 -> BOB | C13: =IF(A13<>0,VLOOKUP(A13,Bobři!$B$3:$X$15,20,0),0) -> 0 | D13: =IF(A13<>0,VLOOKUP(A13,Bobři!$B$3:$X$15,21,0),0) -> 0 | E13: =IF(A13<>0,VLOOKUP(A13,Bobři!$B$3:$X$15,22,0),0) -> 0
A14: =Bobři!B15 -> 0 | B14: =Bobři!X15 -> BOB | C14: =IF(A14<>0,VLOOKUP(A14,Bobři!$B$3:$X$15,20,0),0) -> 0 | D14: =IF(A14<>0,VLOOKUP(A14,Bobři!$B$3:$X$15,21,0),0) -> 0 | E14: =IF(A14<>0,VLOOKUP(A14,Bobři!$B$3:$X$15,22,0),0) -> 0
A15: =Bobříci!B3 -> Maxmilián Maleček | B15: =Bobříci!X3 -> BCI | C15: =IF(A15<>0,VLOOKUP(A15,Bobříci!$B$3:$X$15,20,0),0) -> 0 | D15: =IF(A15<>0,VLOOKUP(A15,Bobříci!$B$3:$X$15,21,0),0) -> 1 | E15: =IF(A15<>0,VLOOKUP(A15,Bobříci!$B$3:$X$15,22,0),0) -> 1
A16: =Bobříci!B4 -> Adam Otčenáš | B16: =Bobříci!X4 -> BCI | C16: =IF(A16<>0,VLOOKUP(A16,Bobříci!$B$3:$X$15,20,0),0) -> 1 | D16: =IF(A16<>0,VLOOKUP(A16,Bobříci!$B$3:$X$15,21,0),0) -> 1 | E16: =IF(A16<>0,VLOOKUP(A16,Bobříci!$B$3:$X$15,22,0),0) -> 2
A17: =Bobříci!B5 -> Emil Hejda | B17: =Bobříci!X5 -> BCI | C17: =IF(A17<>0,VLOOKUP(A17,Bobříci!$B$3:$X$15,20,0),0) -> 4 | D17: =IF(A17<>0,VLOOKUP(A17,Bobříci!$B$3:$X$15,21,0),0) -> 1 | E17: =IF(A17<>0,VLOOKUP(A17,Bobříci!$B$3:$X$15,22,0),0) -> 5
A18: =Bobříci!B6 -> Kryštof Abel | B18: =Bobříci!X6 -> BCI | C18: =IF(A18<>0,VLOOKUP(A18,Bobříci!$B$3:$X$15,20,0),0) -> 6 | D18: =IF(A18<>0,VLOOKUP(A18,Bobříci!$B$3:$X$15,21,0),0) -> 0 | E18: =IF(A18<>0,VLOOKUP(A18,Bobříci!$B$3:$X$15,22,0),0) -> 6
A19: =Bobříci!B7 -> Benjamín Mesany | B19: =Bobříci!X7 -> BCI | C19: =IF(A19<>0,VLOOKUP(A19,Bobříci!$B$3:$X$15,20,0),0) -> 1 | D19: =IF(A19<>0,VLOOKUP(A19,Bobříci!$B$3:$X$15,21,0),0) -> 0 | E19: =IF(A19<>0,VLOOKUP(A19,Bobříci!$B$3:$X$15,22,0),0) -> 1
A20: =Bobříci!B8 -> 0 | B20: =Bobříci!X8 -> BCI | C20: =IF(A20<>0,VLOOKUP(A20,Bobříci!$B$3:$X$15,20,0),0) -> 0 | D20: =IF(A20<>0,VLOOKUP(A20,Bobříci!$B$3:$X$15,21,0),0) -> 0 | E20: =IF(A20<>0,VLOOKUP(A20,Bobříci!$B$3:$X$15,22,0),0) -> 0
A21: =Bobříci!B9 -> 0 | B21: =Bobříci!X9 -> BCI | C21: =IF(A21<>0,VLOOKUP(A21,Bobříci!$B$3:$X$15,20,0),0) -> 0 | D21: =IF(A21<>0,VLOOKUP(A21,Bobříci!$B$3:$X$15,21,0),0) -> 0 | E21: =IF(A21<>0,VLOOKUP(A21,Bobříci!$B$3:$X$15,22,0),0) -> 0
A22: =Bobříci!B10 -> 0 | B22: =Bobříci!X10 -> BCI | C22: =IF(A22<>0,VLOOKUP(A22,Bobříci!$B$3:$X$15,20,0),0) -> 0 | D22: =IF(A22<>0,VLOOKUP(A22,Bobříci!$B$3:$X$15,21,0),0) -> 0 | E22: =IF(A22<>0,VLOOKUP(A22,Bobříci!$B$3:$X$15,22,0),0) -> 0
A23: =Bobříci!B11 -> 0 | B23: =Bobříci!X11 -> BCI | C23: =IF(A23<>0,VLOOKUP(A23,Bobříci!$B$3:$X$15,20,0),0) -> 0 | D23: =IF(A23<>0,VLOOKUP(A23,Bobříci!$B$3:$X$15,21,0),0) -> 0 | E23: =IF(A23<>0,VLOOKUP(A23,Bobříci!$B$3:$X$15,22,0),0) -> 0
A24: =Bobříci!B12 -> 0 | B24: =Bobříci!X12 -> BCI | C24: =IF(A24<>0,VLOOKUP(A24,Bobříci!$B$3:$X$15,20,0),0) -> 0 | D24: =IF(A24<>0,VLOOKUP(A24,Bobříci!$B$3:$X$15,21,0),0) -> 0 | E24: =IF(A24<>0,VLOOKUP(A24,Bobříci!$B$3:$X$15,22,0),0) -> 0
A25: =Bobříci!B13 -> 0 | B25: =Bobříci!X13 -> BCI | C25: =IF(A25<>0,VLOOKUP(A25,Bobříci!$B$3:$X$15,20,0),0) -> 0 | D25: =IF(A25<>0,VLOOKUP(A25,Bobříci!$B$3:$X$15,21,0),0) -> 0 | E25: =IF(A25<>0,VLOOKUP(A25,Bobříci!$B$3:$X$15,22,0),0) -> 0
A26: =Bobříci!B14 -> 0 | B26: =Bobříci!X14 -> BCI | C26: =IF(A26<>0,VLOOKUP(A26,Bobříci!$B$3:$X$15,20,0),0) -> 0 | D26: =IF(A26<>0,VLOOKUP(A26,Bobříci!$B$3:$X$15,21,0),0) -> 0 | E26: =IF(A26<>0,VLOOKUP(A26,Bobříci!$B$3:$X$15,22,0),0) -> 0
A27: =Bobříci!B15 -> 0 | B27: =Bobříci!X15 -> BCI | C27: =IF(A27<>0,VLOOKUP(A27,Bobříci!$B$3:$X$15,20,0),0) -> 0 | D27: =IF(A27<>0,VLOOKUP(A27,Bobříci!$B$3:$X$15,21,0),0) -> 0 | E27: =IF(A27<>0,VLOOKUP(A27,Bobříci!$B$3:$X$15,22,0),0) -> 0
A28: =Lowlanders!B3 -> Roman Hohn | B28: =Lowlanders!X3 -> LOW | C28: =IF($A28<>0,VLOOKUP($A28,Lowlanders!$B$3:$X$15,20,0),0) -> 21 | D28: =IF($A28<>0,VLOOKUP($A28,Lowlanders!$B$3:$X$15,21,0),0) -> 5 | E28: =IF($A28<>0,VLOOKUP($A28,Lowlanders!$B$3:$X$15,22,0),0) -> 26
A29: =Lowlanders!B4 -> Jakub Holinka | B29: =Lowlanders!X4 -> LOW | C29: =IF($A29<>0,VLOOKUP($A29,Lowlanders!$B$3:$X$15,20,0),0) -> 21 | D29: =IF($A29<>0,VLOOKUP($A29,Lowlanders!$B$3:$X$15,21,0),0) -> 6 | E29: =IF($A29<>0,VLOOKUP($A29,Lowlanders!$B$3:$X$15,22,0),0) -> 27
A30: =Lowlanders!B5 -> Hynek Matura | B30: =Lowlanders!X5 -> LOW | C30: =IF($A30<>0,VLOOKUP($A30,Lowlanders!$B$3:$X$15,20,0),0) -> 8 | D30: =IF($A30<>0,VLOOKUP($A30,Lowlanders!$B$3:$X$15,21,0),0) -> 8 | E30: =IF($A30<>0,VLOOKUP($A30,Lowlanders!$B$3:$X$15,22,0),0) -> 16
A31: =Lowlanders!B6 -> Hanka Čechová | B31: =Lowlanders!X6 -> LOW | C31: =IF($A31<>0,VLOOKUP($A31,Lowlanders!$B$3:$X$15,20,0),0) -> 3 | D31: =IF($A31<>0,VLOOKUP($A31,Lowlanders!$B$3:$X$15,21,0),0) -> 5 | E31: =IF($A31<>0,VLOOKUP($A31,Lowlanders!$B$3:$X$15,22,0),0) -> 8
A32: =Lowlanders!B7 -> Jáchym Čech | B32: =Lowlanders!X7 -> LOW | C32: =IF($A32<>0,VLOOKUP($A32,Lowlanders!$B$3:$X$15,20,0),0) -> 1 | D32: =IF($A32<>0,VLOOKUP($A32,Lowlanders!$B$3:$X$15,21,0),0) -> 11 | E32: =IF($A32<>0,VLOOKUP($A32,Lowlanders!$B$3:$X$15,22,0),0) -> 12
A33: =Lowlanders!B8 -> Kopecký Filip | B33: =Lowlanders!X8 -> LOW | C33: =IF($A33<>0,VLOOKUP($A33,Lowlanders!$B$3:$X$15,20,0),0) -> 6 | D33: =IF($A33<>0,VLOOKUP($A33,Lowlanders!$B$3:$X$15,21,0),0) -> 9 | E33: =IF($A33<>0,VLOOKUP($A33,Lowlanders!$B$3:$X$15,22,0),0) -> 15
A34: =Lowlanders!B9 -> Robert Lubojacký | B34: =Lowlanders!X9 -> LOW | C34: =IF($A34<>0,VLOOKUP($A34,Lowlanders!$B$3:$X$15,20,0),0) -> 1 | D34: =IF($A34<>0,VLOOKUP($A34,Lowlanders!$B$3:$X$15,21,0),0) -> 3 | E34: =IF($A34<>0,VLOOKUP($A34,Lowlanders!$B$3:$X$15,22,0),0) -> 4
A35: =Lowlanders!B10 -> 0 | B35: =Lowlanders!X10 -> LOW | C35: =IF($A35<>0,VLOOKUP($A35,Lowlanders!$B$3:$X$15,20,0),0) -> 0 | D35: =IF($A35<>0,VLOOKUP($A35,Lowlanders!$B$3:$X$15,21,0),0) -> 0 | E35: =IF($A35<>0,VLOOKUP($A35,Lowlanders!$B$3:$X$15,22,0),0) -> 0
A36: =Lowlanders!B11 -> 0 | B36: =Lowlanders!X11 -> LOW | C36: =IF($A36<>0,VLOOKUP($A36,Lowlanders!$B$3:$X$15,20,0),0) -> 0 | D36: =IF($A36<>0,VLOOKUP($A36,Lowlanders!$B$3:$X$15,21,0),0) -> 0 | E36: =IF($A36<>0,VLOOKUP($A36,Lowlanders!$B$3:$X$15,22,0),0) -> 0
A37: =Lowlanders!B12 -> 0 | B37: =Lowlanders!X12 -> LOW | C37: =IF($A37<>0,VLOOKUP($A37,Lowlanders!$B$3:$X$15,20,0),0) -> 0 | D37: =IF($A37<>0,VLOOKUP($A37,Lowlanders!$B$3:$X$15,21,0),0) -> 0 | E37: =IF($A37<>0,VLOOKUP($A37,Lowlanders!$B$3:$X$15,22,0),0) -> 0
A38: =Lowlanders!B13 -> 0 | B38: =Lowlanders!X13 -> LOW | C38: =IF($A38<>0,VLOOKUP($A38,Lowlanders!$B$3:$X$15,20,0),0) -> 0 | D38: =IF($A38<>0,VLOOKUP($A38,Lowlanders!$B$3:$X$15,21,0),0) -> 0 | E38: =IF($A38<>0,VLOOKUP($A38,Lowlanders!$B$3:$X$15,22,0),0) -> 0
A39: =Lowlanders!B14 -> 0 | B39: =Lowlanders!X14 -> LOW | C39: =IF($A39<>0,VLOOKUP($A39,Lowlanders!$B$3:$X$15,20,0),0) -> 0 | D39: =IF($A39<>0,VLOOKUP($A39,Lowlanders!$B$3:$X$15,21,0),0) -> 0 | E39: =IF($A39<>0,VLOOKUP($A39,Lowlanders!$B$3:$X$15,22,0),0) -> 0
A40: =Lowlanders!B15 -> 0 | B40: =Lowlanders!X15 -> LOW | C40: =IF($A40<>0,VLOOKUP($A40,Lowlanders!$B$3:$X$15,20,0),0) -> 0 | D40: =IF($A40<>0,VLOOKUP($A40,Lowlanders!$B$3:$X$15,21,0),0) -> 0 | E40: =IF($A40<>0,VLOOKUP($A40,Lowlanders!$B$3:$X$15,22,0),0) -> 0
...

Sheet Statistiky
A1: Jméno | B1: Tým | C1: G | D1: N | E1: K | F1: Poř. G | G1: Poř. N | H1: Poř. K
A2: Samuel Mesany | B2: BOB | C2: 29 | D2: 8 | E2: 37 | F2: 1 | G2: 6 | H2: 1
A3: Jan Procházka | B3: BOB | C3: 0 | D3: 34 | E3: 34 | F3: 27 | G3: 1 | H3: 2
A4: Eliáš Mesany | B4: BOB | C4: 22 | D4: 12 | E4: 34 | F4: 2 | G4: 2 | H4: 3
A5: Vojtěch Procházka | B5: BOB | C5: 17 | D5: 10 | E5: 27 | F5: 5 | G5: 4 | H5: 4
A6: Jakub Holinka | B6: LOW | C6: 21 | D6: 6 | E6: 27 | F6: 4 | G6: 9 | H6: 5
A7: Roman Hohn | B7: LOW | C7: 21 | D7: 5 | E7: 26 | F7: 3 | G7: 11 | H7: 6
A8: Nikol Dovicová | B8: FAB | C8: 14 | D8: 4 | E8: 18 | F8: 6 | G8: 13 | H8: 7
A9: Hynek Matura | B9: LOW | C9: 8 | D9: 8 | E9: 16 | F9: 8 | G9: 7 | H9: 8
A10: Kopecký Filip | B10: LOW | C10: 6 | D10: 9 | E10: 15 | F10: 11 | G10: 5 | H10: 9
A11: Matyáš Sedlák | B11: STO | C11: 8 | D11: 6 | E11: 14 | F11: 9 | G11: 10 | H11: 10
A12: Adam Vrána | B12: STO | C12: 12 | D12: 2 | E12: 14 | F12: 7 | G12: 16 | H12: 11
A13: Jáchym Čech | B13: LOW | C13: 1 | D13: 11 | E13: 12 | F13: 21 | G13: 3 | H13: 12
... A34: Ellen Tichá | B34: FAB | C34: 0 | D34: 0 | E34: 0 | F34: 33 | G34: 33 | H34: 33
